BEGIN:VCALENDAR
VERSION:2.0
PRODID:-//wp-events-plugin.com//7.2.3.1//EN
TZID:Europe/Berlin
X-WR-TIMEZONE:Europe/Berlin
BEGIN:VEVENT
UID:14@in-fected.de
DTSTART;TZID=Europe/Berlin:20251223T200000
DTEND;TZID=Europe/Berlin:20251223T200000
DTSTAMP:20251124T115017Z
URL:https://in-fected.de/veranstaltungen-2/christgenau-2025-gaggenau/
SUMMARY:CHRISTgenau 2025 - Festhalle Bad Rotenfels
DESCRIPTION: \n\nhttps://kindgenau.de/aktuelles-2/
ATTACH;FMTTYPE=image/jpeg:https://in-fected.de/wp-content/uploads/2025/06/
 Seite01.jpg
LOCATION:Kulturhalle Bad Rotenfels\, Am Gommersbach 7\, Gaggenau\, 76571\, 
 Deutschland
X-APPLE-STRUCTURED-LOCATION;VALUE=URI;X-ADDRESS=Am Gommersbach 7\, Gaggenau
 \, 76571\, Deutschland;X-APPLE-RADIUS=100;X-TITLE=Kulturhalle Bad Rotenfel
 s:geo:0,0
END:VEVENT
BEGIN:VTIMEZONE
TZID:Europe/Berlin
X-LIC-LOCATION:Europe/Berlin
BEGIN:STANDARD
DTSTART:20251026T020000
TZOFFSETFROM:+0200
TZOFFSETTO:+0100
TZNAME:CET
END:STANDARD
END:VTIMEZONE
END:VCALENDAR