BEGIN:VCALENDAR
VERSION:2.0
PRODID:-//wp-events-plugin.com//7.2.3.1//EN
TZID:Europe/Berlin
X-WR-TIMEZONE:Europe/Berlin
BEGIN:VEVENT
UID:7@in-fected.de
DTSTART;TZID=Europe/Berlin:20241221T200000
DTEND;TZID=Europe/Berlin:20241221T200000
DTSTAMP:20241026T092957Z
URL:https://in-fected.de/veranstaltungen-2/jockey-stuebel-plittersdorf-2/
SUMMARY:Jockey-Stübel Plittersdorf
DESCRIPTION:
ATTACH;FMTTYPE=image/jpeg:https://in-fected.de/wp-content/uploads/2024/06/
 Seite01.jpg
LOCATION:Jockey-Stübel\, Kleinwäldelestraße 2\, Rastatt-Plittersdorf\, 7
 6437\, Deutschland
X-APPLE-STRUCTURED-LOCATION;VALUE=URI;X-ADDRESS=Kleinwäldelestraße 2\, Ra
 statt-Plittersdorf\, 76437\, Deutschland;X-APPLE-RADIUS=100;X-TITLE=Jockey
 -Stübel:geo:0,0
END:VEVENT
BEGIN:VTIMEZONE
TZID:Europe/Berlin
X-LIC-LOCATION:Europe/Berlin
BEGIN:STANDARD
DTSTART:20241027T020000
TZOFFSETFROM:+0200
TZOFFSETTO:+0100
TZNAME:CET
END:STANDARD
END:VTIMEZONE
END:VCALENDAR